BEGIN:VCALENDAR
VERSION:2.0
PRODID:-//ChamberMaster//Event Calendar 2.0//EN
METHOD:PUBLISH
X-PUBLISHED-TTL:P3D
REFRESH-INTERVAL:P3D
CALSCALE:GREGORIAN
BEGIN:VEVENT
DTSTART:20210916T190000Z
DTEND:20210916T200000Z
X-MICROSOFT-CDO-ALLDAYEVENT:FALSE
SUMMARY:5th Annual Raise the Roof
DESCRIPTION:Habitat for Humanity of Snohomish County is hosting our 5th Annual Raise the Roof Fundraiser! Come join our staff\, board and volunteers as we celebrate our community together. The event will be hosted\, live\, on Zoom\, at 12:00pm PDT. Get to know some of our Habitat partner families and see what a difference a Habitat home or repair makes! There will also be a Q&A with our staff and members from our Board of Directors after the show! Free and open to the public. Donations optional and encouraged. Registration is open! Click here to sign up: https://www.eventbrite.com/e/5th-annual-raise-the-roof-registration-150785542617. You can also join the event on the 16th at https://habitatsnohomish.org/RaiseTheRoof. Let's work together to create a world where everyone has a decent place to live!
X-ALT-DESC;FMTTYPE=text/html:Habitat for Humanity of Snohomish County is hosting our 5th Annual Raise the Roof Fundraiser! Come join our staff\, board and volunteers as we celebrate our community together. The event will be hosted\, live\, on Zoom\, at 12:00pm PDT. Get to know some of our Habitat partner families and see what a difference a Habitat home or repair makes! There will also be a Q&amp\;A with our staff and members from our Board of Directors after the show! Free and open to the public. Donations optional and encouraged. Registration is open! Click here to sign up: https://www.eventbrite.com/e/5th-annual-raise-the-roof-registration-150785542617. You can also join the event on the 16th at https://habitatsnohomish.org/RaiseTheRoof. Let&rsquo\;s work together to create a world where everyone has a decent place to live!
LOCATION:https://www.eventbrite.com/e/5th-annual-raise-the-roof-registration-150785542617
UID:e.3041.981
SEQUENCE:3
DTSTAMP:20260421T021823Z
URL:https://business.lynnwoodchamber.org/events/details/5th-annual-raise-the-roof-981
END:VEVENT

END:VCALENDAR
