BEGIN:VCALENDAR
VERSION:2.0
PRODID:-//ChamberMaster//Event Calendar 2.0//EN
METHOD:PUBLISH
X-PUBLISHED-TTL:P3D
REFRESH-INTERVAL:P3D
CALSCALE:GREGORIAN
BEGIN:VEVENT
DTSTART:20190226T200000Z
DTEND:20190226T213000Z
X-MICROSOFT-CDO-ALLDAYEVENT:FALSE
SUMMARY:5 Key Habits to Keep Your Brain Ticking
DESCRIPTION:Keep Your Brain Young at Any Age!\n\nThis month: 5 Key Habits to Keep Your Brain Ticking\n\nTips for dementia caregivers and individuals interested in preserving brain health.\n\nPresented by Aegis Living of Lynnwood
X-ALT-DESC;FMTTYPE=text/html:Keep Your Brain Young at Any Age!<br />\nThis month: 5 Key Habits to Keep Your Brain Ticking<br />\nTips for dementia caregivers and individuals interested in preserving brain health.<br />\nPresented by Aegis Living of Lynnwood
LOCATION:Lynnwood Fire Station Meeting Room 18800 44th Ave. W. Lynnwood\, WA 98037
UID:e.3041.704
SEQUENCE:3
DTSTAMP:20260422T205846Z
URL:https://business.lynnwoodchamber.org/events/details/5-key-habits-to-keep-your-brain-ticking-704
END:VEVENT

END:VCALENDAR
