BEGIN:VCALENDAR
VERSION:2.0
PRODID:-//ChamberMaster//Event Calendar 2.0//EN
METHOD:PUBLISH
X-PUBLISHED-TTL:P3D
REFRESH-INTERVAL:P3D
CALSCALE:GREGORIAN
BEGIN:VEVENT
DTSTART:20200424T140000Z
DTEND:20200424T170000Z
X-MICROSOFT-CDO-ALLDAYEVENT:FALSE
SUMMARY:4th Annual Raise the Roof Breakfast Fundraiser
DESCRIPTION:Come join 200 other community and business leaders as we kick off fundraising for our biggest project to date\, Twin Creeks Village! With your donations from this event\, we will build 24 homes for low-income families in Everett. Help us reach our goal of raising $30\,000 to fight poverty and provide home ownership to hard-working families in the County. We will be recognizing and thanking our generous community\, business and individual donors\, as well as announcing some new partnerships. Help us achieve our vision of a world where everyone has a decent place to live.
X-ALT-DESC;FMTTYPE=text/html:Come join 200 other community and business leaders as we kick off fundraising for our biggest project to date\, Twin Creeks Village! With your donations from this event\, we will build 24 homes for low-income families in Everett. Help us reach our goal of raising $30\,000 to fight poverty and provide home ownership to hard-working families in the County. We will be recognizing and thanking our generous community\, business and individual donors\, as well as announcing some new partnerships. Help us achieve our vision of a world where everyone has a decent place to live.
LOCATION:Lynnwood Convention Center 3711 196th St SW Lynnwood\, WA 98036
UID:e.3041.918
SEQUENCE:3
DTSTAMP:20260422T014217Z
URL:https://business.lynnwoodchamber.org/events/details/4th-annual-raise-the-roof-breakfast-fundraiser-918
END:VEVENT

END:VCALENDAR
