BEGIN:VCALENDAR
VERSION:2.0
PRODID:-//ChamberMaster//Event Calendar 2.0//EN
METHOD:PUBLISH
X-PUBLISHED-TTL:P3D
REFRESH-INTERVAL:P3D
CALSCALE:GREGORIAN
BEGIN:VEVENT
DTSTART:20190326T190000Z
DTEND:20190326T203000Z
X-MICROSOFT-CDO-ALLDAYEVENT:FALSE
SUMMARY:3 Things to Release to Recharge Your Brain
DESCRIPTION:Keep your Brain Young at Any Age!\n\nThis month: 3 Things to Release to Recharge Your Brain\n\nTips for dementia caregivers and individuals interested in preserving brain health.\n\nPresented by Aegis Living of Lynnwood
X-ALT-DESC;FMTTYPE=text/html:Keep your Brain Young at Any Age!<br />\nThis month: 3 Things to Release to Recharge Your Brain<br />\nTips for dementia caregivers and individuals interested in preserving brain health.<br />\nPresented by Aegis Living of Lynnwood
LOCATION:Lynnwood Fire Station Meeting Room 18800 44th Ave. W. Lynnwood\, WA 98037
UID:e.3041.705
SEQUENCE:3
DTSTAMP:20260422T181451Z
URL:https://business.lynnwoodchamber.org/events/details/3-things-to-release-to-recharge-your-brain-705
END:VEVENT

END:VCALENDAR
