BEGIN:VCALENDAR
VERSION:2.0
PRODID:-//ChamberMaster//Event Calendar 2.0//EN
METHOD:PUBLISH
X-PUBLISHED-TTL:P3D
REFRESH-INTERVAL:P3D
CALSCALE:GREGORIAN
BEGIN:VEVENT
DTSTART:20250531T003000Z
DTEND:20250531T043000Z
X-MICROSOFT-CDO-ALLDAYEVENT:FALSE
SUMMARY:23rd Annual Gala Dinner & Auction: The Magic of Community
DESCRIPTION:Join us for an unforgettable evening celebrating 62 years of transforming lives through employment! Work Opportunities' 23rd Annual Gala Dinner & Auction brings together over 350 community leaders\, business professionals\, and advocates in support of workplace inclusion and diversity. ?? Why Attend? Nationally\, 85% of individuals with disabilities are unemployed\, but together\, we can change that. Work Opportunities provides essential supported employment services to over 500 adults with disabilities across four counties\, helping them find meaningful jobs and thrive in inclusive workplaces. ?? Ways to Get Involved: ? Attend   Enjoy a night of great food\, inspiration\, and bidding on exciting auction items. ?? Donate an Auction Item   Highlight your business while making a difference. ?? Become a Sponsor   Show your commitment to an inclusive workforce. ?? Volunteer   Support our mission by helping with event logistics. ?? Special Guest: Our auctioneer for the evening is Jim Dever from King 5 Evening Magazine along with Saint Bryan! Help us build a future where people of all abilities can succeed. Learn more and secure your spot today!
X-ALT-DESC;FMTTYPE=text/html:Join us for an unforgettable evening celebrating 62 years of transforming lives through employment! Work Opportunities&#39\; 23rd Annual Gala Dinner &amp\; Auction brings together over 350 community leaders\, business professionals\, and advocates in support of workplace inclusion and diversity. ?? Why Attend? Nationally\, 85% of individuals with disabilities are unemployed\, but together\, we can change that. Work Opportunities provides essential supported employment services to over 500 adults with disabilities across four counties\, helping them find meaningful jobs and thrive in inclusive workplaces. ?? Ways to Get Involved: ? Attend &ndash\; Enjoy a night of great food\, inspiration\, and bidding on exciting auction items. ?? Donate an Auction Item &ndash\; Highlight your business while making a difference. ?? Become a Sponsor &ndash\; Show your commitment to an inclusive workforce. ?? Volunteer &ndash\; Support our mission by helping with event logistics. ?? Special Guest: Our auctioneer for the evening is Jim Dever from King 5 Evening Magazine along with Saint Bryan! Help us build a future where people of all abilities can succeed. Learn more and secure your spot today!
LOCATION:Lynnwood Event Center
UID:e.3041.1553
SEQUENCE:3
DTSTAMP:20260421T111134Z
URL:https://business.lynnwoodchamber.org/events/details/23rd-annual-gala-dinner-auction-the-magic-of-community-1553
END:VEVENT

END:VCALENDAR
