BEGIN:VCALENDAR
VERSION:2.0
PRODID:-//ChamberMaster//Event Calendar 2.0//EN
METHOD:PUBLISH
X-PUBLISHED-TTL:P3D
REFRESH-INTERVAL:P3D
CALSCALE:GREGORIAN
BEGIN:VEVENT
DTSTART;VALUE=DATE:20250510
DTEND;VALUE=DATE:20250511
TRANSP:TRANSPARENT
X-MICROSOFT-CDO-ALLDAYEVENT:TRUE
SUMMARY:2025 Perfect Game NW Mother's Day Tournament
DESCRIPTION:The 2025 Perfect Game NW Mother's Day Tournament will be played at Phil Johnson Ballfields (10U Open\, 11U Open)\, Meadowdale Playfields (12U Open\, 14U Open)\, and Kasch Park (9U Open\, 13U AAA\, 13U Major). Divisions: 9U\, 10U\, 11U\, 12U\, 13U\, 14U Entry fees: 9u-12u: $575\; 13u-14u: $625 Bat Standards: Metal/Composite or Wood Bat Only
X-ALT-DESC;FMTTYPE=text/html:The 2025 Perfect Game NW Mother&#39\;s Day Tournament will be played at Phil Johnson Ballfields (10U Open\, 11U Open)\, Meadowdale Playfields (12U Open\, 14U Open)\, and Kasch Park (9U Open\, 13U AAA\, 13U Major). Divisions: 9U\, 10U\, 11U\, 12U\, 13U\, 14U Entry fees: 9u-12u: $575\; 13u-14u: $625 Bat Standards: Metal/Composite or Wood Bat Only
LOCATION:Meadowdale Playfields - 12U and 14U
UID:e.3041.1545
SEQUENCE:3
DTSTAMP:20260421T111343Z
URL:https://business.lynnwoodchamber.org/events/details/2025-perfect-game-nw-mother-s-day-tournament-1545
END:VEVENT

END:VCALENDAR
